BEGIN:VCALENDAR
VERSION:2.0
PRODID:-//Maja Sidebaeck - ECPv6.0.6.2//NONSGML v1.0//EN
CALSCALE:GREGORIAN
METHOD:PUBLISH
X-ORIGINAL-URL:https://www.majasidebaeck.com
X-WR-CALDESC:Events for Maja Sidebaeck
REFRESH-INTERVAL;VALUE=DURATION:PT1H
X-Robots-Tag:noindex
X-PUBLISHED-TTL:PT1H
BEGIN:VTIMEZONE
TZID:UTC
BEGIN:STANDARD
TZOFFSETFROM:+0000
TZOFFSETTO:+0000
TZNAME:UTC
DTSTART:20190101T000000
END:STANDARD
END:VTIMEZONE
BEGIN:VEVENT
DTSTART;TZID=UTC:20190303T163000
DTEND;TZID=UTC:20190303T180000
DTSTAMP:20260423T142023
CREATED:20190308T110422Z
LAST-MODIFIED:20190308T110422Z
UID:39073-1551630600-1551636000@www.majasidebaeck.com
SUMMARY:Flow and restorative at Yoga Plus
DESCRIPTION:
URL:https://www.majasidebaeck.com/yoga-events/flow-and-restorative-at-yoga-plus-2-2-2-2-2-2-2-2-2-2-2-2-2-2-2-2-2-2-2-2-2-2-2-2-2-2-2-2-2-2-2-2-2-2-2-2-2-2-2-2-2-2-2-2-2-2-2-2-2-2-2-2-2-2-2-2-2/
LOCATION:Yoga Plus\, Breite Straße 28\, Mainz-Gonsenheim\, 55124\, Germany
CATEGORIES:Flow and restorative Yoga
END:VEVENT
BEGIN:VEVENT
DTSTART;TZID=UTC:20190310T163000
DTEND;TZID=UTC:20190310T180000
DTSTAMP:20260423T142023
CREATED:20190308T110452Z
LAST-MODIFIED:20190308T110452Z
UID:39075-1552235400-1552240800@www.majasidebaeck.com
SUMMARY:Flow and restorative at Yoga Plus
DESCRIPTION:
URL:https://www.majasidebaeck.com/yoga-events/flow-and-restorative-at-yoga-plus-2-2-2-2-2-2-2-2-2-2-2-2-2-2-2-2-2-2-2-2-2-2-2-2-2-2-2-2-2-2-2-2-2-2-2-2-2-2-2-2-2-2-2-2-2-2-2-2-2-2-2-2-2-2-2-2-2-2/
LOCATION:Yoga Plus\, Breite Straße 28\, Mainz-Gonsenheim\, 55124\, Germany
CATEGORIES:Flow and restorative Yoga
END:VEVENT
BEGIN:VEVENT
DTSTART;TZID=UTC:20190317T163000
DTEND;TZID=UTC:20190317T180000
DTSTAMP:20260423T142023
CREATED:20190308T110644Z
LAST-MODIFIED:20190308T110644Z
UID:39077-1552840200-1552845600@www.majasidebaeck.com
SUMMARY:Flow and restorative at Yoga Plus
DESCRIPTION:
URL:https://www.majasidebaeck.com/yoga-events/flow-and-restorative-at-yoga-plus-2-2-2-2-2-2-2-2-2-2-2-2-2-2-2-2-2-2-2-2-2-2-2-2-2-2-2-2-2-2-2-2-2-2-2-2-2-2-2-2-2-2-2-2-2-2-2-2-2-2-2-2-2-2-2-2-2-2-2/
LOCATION:Yoga Plus\, Breite Straße 28\, Mainz-Gonsenheim\, 55124\, Germany
CATEGORIES:Flow and restorative Yoga
END:VEVENT
BEGIN:VEVENT
DTSTART;TZID=UTC:20190324T163000
DTEND;TZID=UTC:20190324T180000
DTSTAMP:20260423T142023
CREATED:20190308T110715Z
LAST-MODIFIED:20190308T110715Z
UID:39079-1553445000-1553450400@www.majasidebaeck.com
SUMMARY:Flow and restorative at Yoga Plus
DESCRIPTION:
URL:https://www.majasidebaeck.com/yoga-events/flow-and-restorative-at-yoga-plus-2-2-2-2-2-2-2-2-2-2-2-2-2-2-2-2-2-2-2-2-2-2-2-2-2-2-2-2-2-2-2-2-2-2-2-2-2-2-2-2-2-2-2-2-2-2-2-2-2-2-2-2-2-2-2-2-2-2-2-2/
LOCATION:Yoga Plus\, Breite Straße 28\, Mainz-Gonsenheim\, 55124\, Germany
CATEGORIES:Flow and restorative Yoga
END:VEVENT
BEGIN:VEVENT
DTSTART;TZID=UTC:20190331T163000
DTEND;TZID=UTC:20190331T180000
DTSTAMP:20260423T142023
CREATED:20190308T110748Z
LAST-MODIFIED:20190308T110748Z
UID:39081-1554049800-1554055200@www.majasidebaeck.com
SUMMARY:Flow and restorative at Yoga Plus
DESCRIPTION:
URL:https://www.majasidebaeck.com/yoga-events/flow-and-restorative-at-yoga-plus-2-2-2-2-2-2-2-2-2-2-2-2-2-2-2-2-2-2-2-2-2-2-2-2-2-2-2-2-2-2-2-2-2-2-2-2-2-2-2-2-2-2-2-2-2-2-2-2-2-2-2-2-2-2-2-2-2-2-2-2-2/
LOCATION:Yoga Plus\, Breite Straße 28\, Mainz-Gonsenheim\, 55124\, Germany
CATEGORIES:Flow and restorative Yoga
END:VEVENT
END:VCALENDAR